BEGIN:VCALENDAR
VERSION:2.0
PRODID:-//Western Canada Corsa - ECPv6.15.20//NONSGML v1.0//EN
CALSCALE:GREGORIAN
METHOD:PUBLISH
X-WR-CALNAME:Western Canada Corsa
X-ORIGINAL-URL:https://westerncanadacorsa.com
X-WR-CALDESC:Events for Western Canada Corsa
REFRESH-INTERVAL;VALUE=DURATION:PT1H
X-Robots-Tag:noindex
X-PUBLISHED-TTL:PT1H
BEGIN:VTIMEZONE
TZID:America/Vancouver
BEGIN:DAYLIGHT
TZOFFSETFROM:-0800
TZOFFSETTO:-0700
TZNAME:PDT
DTSTART:20240310T100000
END:DAYLIGHT
BEGIN:STANDARD
TZOFFSETFROM:-0700
TZOFFSETTO:-0800
TZNAME:PST
DTSTART:20241103T090000
END:STANDARD
BEGIN:DAYLIGHT
TZOFFSETFROM:-0800
TZOFFSETTO:-0700
TZNAME:PDT
DTSTART:20250309T100000
END:DAYLIGHT
BEGIN:STANDARD
TZOFFSETFROM:-0700
TZOFFSETTO:-0800
TZNAME:PST
DTSTART:20251102T090000
END:STANDARD
BEGIN:DAYLIGHT
TZOFFSETFROM:-0800
TZOFFSETTO:-0700
TZNAME:PDT
DTSTART:20260308T100000
END:DAYLIGHT
BEGIN:STANDARD
TZOFFSETFROM:-0700
TZOFFSETTO:-0800
TZNAME:PST
DTSTART:20261101T090000
END:STANDARD
END:VTIMEZONE
BEGIN:VEVENT
DTSTART;VALUE=DATE:20250906
DTEND;VALUE=DATE:20250907
DTSTAMP:20260422T201250
CREATED:20250403T030123Z
LAST-MODIFIED:20250403T030123Z
UID:285-1757116800-1757203199@westerncanadacorsa.com
SUMMARY:Langley Good Times Cruise In
DESCRIPTION:The Langley Good Times Cruise-In is a must-see BC event\, with thousands of specialty vehicles lining the beautiful streets of Aldergrove\, Langley\, BC. \nCruise-in Fast Facts:\n\n■ An all-volunteer event that donates all the proceeds back to the local community \n■ The “Cruise – In” has become one of the largest mixed car shows in Canada and one of the Top 10 in North America according to Dennis Gage of My Classic Car. \n■ 2023’s show raised over $100\,000 for local charities \n■ Where: Fraser Highway\, between 264th and 272nd Streets in downtown Aldergrove \n■ Admission: FREE for spectators\, and $30 to register your classic\, custom\, or collector vehicles \n\n\n\n2025 Vehicle registration is open here: https://langleycruisein.ca/products/2025-langley-good-times-cruise-in
URL:https://westerncanadacorsa.com/event/langley-good-times-cruise-in/
LOCATION:Downtown Aldergrove\, 27173 Fraser Hwy\, Aldergrove\, BC\, V4W 3R1\, Canada
END:VEVENT
BEGIN:VEVENT
DTSTART;VALUE=DATE:20250913
DTEND;VALUE=DATE:20250914
DTSTAMP:20260422T201250
CREATED:20250512T031259Z
LAST-MODIFIED:20250522T025554Z
UID:299-1757721600-1757807999@westerncanadacorsa.com
SUMMARY:Field Meet at Joe's Corvair Garage
DESCRIPTION:Inviting all Pacific Northwest Corvairs to our Annual Field Meet. Joe’s Corvair Garage will host a BBQ LunchPlease RSVP to joe.belcarra@gmail.com
URL:https://westerncanadacorsa.com/event/field-meet-at-joes-corvair-garage/
LOCATION:BC
END:VEVENT
BEGIN:VEVENT
DTSTART;TZID=America/Vancouver:20250914T070000
DTEND;TZID=America/Vancouver:20250914T153000
DTSTAMP:20260422T201250
CREATED:20250512T030538Z
LAST-MODIFIED:20250512T030538Z
UID:295-1757833200-1757863800@westerncanadacorsa.com
SUMMARY:The 2nd Annual Charity Car Show by the Historic Pharoahs Car Club\, Fort Langley
DESCRIPTION:The Historic Pharoahs Car Club\, boasting a rich legacy as North America’s oldest car club established in 1948 by World War II veterans\, is thrilled to announce its 2nd annual Charity Car Show. Set against the historic backdrop of Downtown Fort Langley\, the birthplace of British Columbia\, this event not only celebrates the club’s storied 76-year history but also honors its significant cultural impact\, highlighted by its influence on George Lucas’s iconic film\, “American Graffiti.” Scheduled for September 14\, 2025\, this year’s show continues its support for the Encompass Support Services Society\, Foundry Langley\, dedicating proceeds to a multitude of vital community services and programs aimed at enriching and assisting children\, youth\, and families across Langley. This gathering promises a day of reverence to automotive history\, community spirit\, and charitable giving\, embodying the essence of the Pharoahs Car Club’s enduring legacy.
URL:https://westerncanadacorsa.com/event/the-2nd-annual-charity-car-show-by-the-historic-pharoahs-car-club-fort-langley/
LOCATION:Fort Langley\, Glover Road\, Fort Langley\, BC\, Canada
END:VEVENT
END:VCALENDAR