BEGIN:VCALENDAR
VERSION:2.0
PRODID:-//Western Canada Corsa - ECPv6.15.20//NONSGML v1.0//EN
CALSCALE:GREGORIAN
METHOD:PUBLISH
X-WR-CALNAME:Western Canada Corsa
X-ORIGINAL-URL:https://westerncanadacorsa.com
X-WR-CALDESC:Events for Western Canada Corsa
REFRESH-INTERVAL;VALUE=DURATION:PT1H
X-Robots-Tag:noindex
X-PUBLISHED-TTL:PT1H
BEGIN:VTIMEZONE
TZID:America/Vancouver
BEGIN:DAYLIGHT
TZOFFSETFROM:-0800
TZOFFSETTO:-0700
TZNAME:PDT
DTSTART:20240310T100000
END:DAYLIGHT
BEGIN:STANDARD
TZOFFSETFROM:-0700
TZOFFSETTO:-0800
TZNAME:PST
DTSTART:20241103T090000
END:STANDARD
BEGIN:DAYLIGHT
TZOFFSETFROM:-0800
TZOFFSETTO:-0700
TZNAME:PDT
DTSTART:20250309T100000
END:DAYLIGHT
BEGIN:STANDARD
TZOFFSETFROM:-0700
TZOFFSETTO:-0800
TZNAME:PST
DTSTART:20251102T090000
END:STANDARD
BEGIN:DAYLIGHT
TZOFFSETFROM:-0800
TZOFFSETTO:-0700
TZNAME:PDT
DTSTART:20260308T100000
END:DAYLIGHT
BEGIN:STANDARD
TZOFFSETFROM:-0700
TZOFFSETTO:-0800
TZNAME:PST
DTSTART:20261101T090000
END:STANDARD
END:VTIMEZONE
BEGIN:VEVENT
DTSTART;TZID=America/Vancouver:20250425T080000
DTEND;TZID=America/Vancouver:20250426T170000
DTSTAMP:20260423T021909
CREATED:20250327T025333Z
LAST-MODIFIED:20250327T025333Z
UID:249-1745568000-1745686800@westerncanadacorsa.com
SUMMARY:2025 Corvair Springfest
DESCRIPTION:The Ultimate Corvair Experience Weekend in beautiful Helen GA\n\nHosted by Heart of Georgia Corvairs\, Corvair Atlanta\, Vulcan Corvair Enthusiasts\, Queen City Corvair Club\, and CORSA South Carolina. \nEarly Registration Deadline is Friday April 18th 2025\,
URL:https://westerncanadacorsa.com/event/2025-corvair-springfest/
LOCATION:Helen Festhalle\, 1074 Edelweiss St\, Helen\, GA\, United States
END:VEVENT
END:VCALENDAR