BEGIN:VCALENDAR
VERSION:2.0
PRODID:-//Western Canada Corsa - ECPv6.15.20//NONSGML v1.0//EN
CALSCALE:GREGORIAN
METHOD:PUBLISH
X-ORIGINAL-URL:https://westerncanadacorsa.com
X-WR-CALDESC:Events for Western Canada Corsa
REFRESH-INTERVAL;VALUE=DURATION:PT1H
X-Robots-Tag:noindex
X-PUBLISHED-TTL:PT1H
BEGIN:VTIMEZONE
TZID:America/Vancouver
BEGIN:DAYLIGHT
TZOFFSETFROM:-0800
TZOFFSETTO:-0700
TZNAME:PDT
DTSTART:20250309T100000
END:DAYLIGHT
BEGIN:STANDARD
TZOFFSETFROM:-0700
TZOFFSETTO:-0800
TZNAME:PST
DTSTART:20251102T090000
END:STANDARD
BEGIN:DAYLIGHT
TZOFFSETFROM:-0800
TZOFFSETTO:-0700
TZNAME:PDT
DTSTART:20260308T100000
END:DAYLIGHT
BEGIN:STANDARD
TZOFFSETFROM:-0700
TZOFFSETTO:-0800
TZNAME:PST
DTSTART:20261101T090000
END:STANDARD
BEGIN:DAYLIGHT
TZOFFSETFROM:-0800
TZOFFSETTO:-0700
TZNAME:PDT
DTSTART:20270314T100000
END:DAYLIGHT
BEGIN:STANDARD
TZOFFSETFROM:-0700
TZOFFSETTO:-0800
TZNAME:PST
DTSTART:20271107T090000
END:STANDARD
END:VTIMEZONE
BEGIN:VEVENT
DTSTART;TZID=America/Vancouver:20260726T080000
DTEND;TZID=America/Vancouver:20260726T140000
DTSTAMP:20260422T150004
CREATED:20260131T221219Z
LAST-MODIFIED:20260131T221306Z
UID:374-1785052800-1785074400@westerncanadacorsa.com
SUMMARY:Courtenay: Cruisin' the Valley Car Show
DESCRIPTION:Comox Valley Classic Cruisers Cruisin’ The Valley car show – Car arrival begins at 8:00 AM for the show. \nCar show from 10:00 AM to 2:00 PM at Lewis Park in Courtenay\, BC.
URL:https://westerncanadacorsa.com/event/courtenay-cruisin-the-valley-car-show/
LOCATION:Courtenay\, BC
END:VEVENT
BEGIN:VEVENT
DTSTART;TZID=America/Vancouver:20260801T080000
DTEND;TZID=America/Vancouver:20260803T170000
DTSTAMP:20260422T150004
CREATED:20260131T221738Z
LAST-MODIFIED:20260131T221738Z
UID:379-1785571200-1785776400@westerncanadacorsa.com
SUMMARY:Comox: Comox Nautical Days Festival
DESCRIPTION:Many of your favourites are returning\, including the BC Day Parade and the Comox Nautical Days Vintage Car Show. There are rides\, games\, and crafts for the kids\, and the Rotary Splash Park and playground are sure to be a big hit. \nWhile at the Festival\, take time to shop the more than 100+ craft booths and quench your appetite at the fabulous food trucks. Those who are “of an age” can enjoy a frosty beverage at the VI Society for Adaptive Snow Sports Bistro Garden. Nautical Days would not be Nautical Days without the Quality Foods Festival of Lights Fireworks extravaganza on Monday night. \nThere’s truly something for everyone at the Comox Nautical Days “Free Festival of Family Fun”. Join us in 2026 from August 1-3 at Comox Marina Park! See you there!
URL:https://westerncanadacorsa.com/event/comox-comox-nautical-days-festival/
LOCATION:Comox\, Comox\, BC
END:VEVENT
BEGIN:VEVENT
DTSTART;TZID=America/Vancouver:20260807T120000
DTEND;TZID=America/Vancouver:20260807T203000
DTSTAMP:20260422T150004
CREATED:20260131T223544Z
LAST-MODIFIED:20260131T223544Z
UID:382-1786104000-1786134600@westerncanadacorsa.com
SUMMARY:Sechelt: Sleepy Hollow Rod Run and Car Show
DESCRIPTION:Friday\, August 7\, 2026: Sleepy Hollow Rod Run. Cars park in Hackett Park in Sechelt starting at noon\, and head out on the cruise at 6pm.
URL:https://westerncanadacorsa.com/event/sechelt-sleepy-hollow-rod-run-and-car-show/
LOCATION:Sechelt\, Sechelt\, BC
END:VEVENT
BEGIN:VEVENT
DTSTART;TZID=America/Vancouver:20260808T060000
DTEND;TZID=America/Vancouver:20260808T140000
DTSTAMP:20260422T150004
CREATED:20260131T223722Z
LAST-MODIFIED:20260131T223722Z
UID:385-1786168800-1786197600@westerncanadacorsa.com
SUMMARY:Sechelt: Sleepy Hollow Show and Shine Car Show
DESCRIPTION:Saturday\, August 8\, 2026: Sleepy Hollow Show & Shine Car Show the day after the Rod Run. Cars begin parking in Downtown Sechelt at 6am; car show runs until 2pm.
URL:https://westerncanadacorsa.com/event/sechelt-sleepy-hollow-show-and-shine-car-show/
LOCATION:Sechelt\, Sechelt\, BC
END:VEVENT
BEGIN:VEVENT
DTSTART;TZID=America/Vancouver:20260808T100000
DTEND;TZID=America/Vancouver:20260808T150000
DTSTAMP:20260422T150004
CREATED:20260131T224248Z
LAST-MODIFIED:20260131T224248Z
UID:387-1786183200-1786201200@westerncanadacorsa.com
SUMMARY:Courtenay:  Hot August Nights Classic Car Show 2026
DESCRIPTION:The 9th annual Romeo St. Jacques Memorial car\nSaturday\, August 8th from 10am – 3pm\nOver 500 classic American cars lining the fairways of The Park @Crown Isle\n1239 Anderton Road\, Courtenay\n\nMore details coming soon! \nPark & Ride:\n\nFrom Gagliardi Academy at 1475 Noel Ave in Comox\nShuttle buses travelling back and forth all day long. Save yourself the hassle by taking the park and ride option\nThere is no parking along Anderton Road or at The Park.\n\nLimited to American Muscle Cars up to 1970s and traditional Hot Rods and Customs up to 1960s.
URL:https://westerncanadacorsa.com/event/courtenay-hot-august-nights-classic-car-show-2026/
LOCATION:Courtenay\, BC
END:VEVENT
BEGIN:VEVENT
DTSTART;TZID=America/Vancouver:20260815T100000
DTEND;TZID=America/Vancouver:20260815T150000
DTSTAMP:20260422T150004
CREATED:20260131T224656Z
LAST-MODIFIED:20260131T224954Z
UID:389-1786788000-1786806000@westerncanadacorsa.com
SUMMARY:Ladysmith: Ladysmith Show 'n Shine 2026
DESCRIPTION:Ladysmith Show ‘n Shine 2026 \n\nAugust 15th\, 2026.\nStarts at 10 am and wraps up at 3 pm.\nRegistration begins at 8 am at the north end of First Avenue.
URL:https://westerncanadacorsa.com/event/ladysmith-ladysmith-show-n-shine-2026/
LOCATION:Ladysmith\, Ladysmith\, BC
END:VEVENT
BEGIN:VEVENT
DTSTART;TZID=America/Vancouver:20260822T080000
DTEND;TZID=America/Vancouver:20260822T170000
DTSTAMP:20260422T150004
CREATED:20260131T225054Z
LAST-MODIFIED:20260131T225054Z
UID:392-1787385600-1787418000@westerncanadacorsa.com
SUMMARY:Gold River: Car Show
DESCRIPTION:Send me details to update this event if you have them. I couldn’t find anything online.
URL:https://westerncanadacorsa.com/event/gold-river-car-show/
END:VEVENT
BEGIN:VEVENT
DTSTART;TZID=America/Vancouver:20260823T090000
DTEND;TZID=America/Vancouver:20260823T140000
DTSTAMP:20260422T150004
CREATED:20260131T225802Z
LAST-MODIFIED:20260131T230154Z
UID:394-1787475600-1787493600@westerncanadacorsa.com
SUMMARY:Coombs: Island Muscle Car & Hot Rod Show
DESCRIPTION:9:00 to 2:00\nPre 1979\nCoombs Rodeo Grounds\n2601 Alberni Hwy Coombs\n250 248 1393\nEmail: islandmusclecarshow.ca
URL:https://westerncanadacorsa.com/event/coombs-island-muscle-car-hot-rod-show/
LOCATION:Coombs\, Coombs\, BC
END:VEVENT
BEGIN:VEVENT
DTSTART;TZID=America/Vancouver:20260912T080000
DTEND;TZID=America/Vancouver:20260912T160000
DTSTAMP:20260422T150004
CREATED:20260131T000754Z
LAST-MODIFIED:20260131T000754Z
UID:357-1789200000-1789228800@westerncanadacorsa.com
SUMMARY:Aldergrove: Langley Cruise-In & Swap Meet
DESCRIPTION:The Cruise-In Car Show\nSeptember 12\, 2026\n8am-4pm\nDowntown Aldergrove\, BC \nRegistration: https://langleycruisein.ca/collections \nThe Swap Meet\nSeptember 13th\, 2026\n8am-4pm\nAldergrove Community Secondary School \n 
URL:https://westerncanadacorsa.com/event/aldergrove-langley-cruise-in-swap-meet/
LOCATION:Downtown Aldergrove\, 27173 Fraser Hwy\, Aldergrove\, BC\, V4W 3R1\, Canada
END:VEVENT
BEGIN:VEVENT
DTSTART;TZID=America/Vancouver:20260919T100000
DTEND;TZID=America/Vancouver:20260919T150000
DTSTAMP:20260422T150004
CREATED:20260131T000914Z
LAST-MODIFIED:20260131T000914Z
UID:359-1789812000-1789830000@westerncanadacorsa.com
SUMMARY:Joe's Corvair Garage Field Meet & BBQ
DESCRIPTION:
URL:https://westerncanadacorsa.com/event/joes-corvair-garage-field-meet-bbq/
END:VEVENT
BEGIN:VEVENT
DTSTART;TZID=America/Vancouver:20260920T080000
DTEND;TZID=America/Vancouver:20260920T170000
DTSTAMP:20260422T150004
CREATED:20260131T001227Z
LAST-MODIFIED:20260131T001227Z
UID:361-1789891200-1789923600@westerncanadacorsa.com
SUMMARY:Fort Langley: Pharoahs Fraser Valley Annual Classic Car Show
DESCRIPTION:September 20\, 2026
URL:https://westerncanadacorsa.com/event/fort-langley-pharoahs-fraser-valley-annual-classic-car-show/
LOCATION:Fort Langley\, Glover Road\, Fort Langley\, BC\, Canada
END:VEVENT
END:VCALENDAR