BEGIN:VCALENDAR
VERSION:2.0
PRODID:-//Western Canada Corsa - ECPv6.15.20//NONSGML v1.0//EN
CALSCALE:GREGORIAN
METHOD:PUBLISH
X-ORIGINAL-URL:https://westerncanadacorsa.com
X-WR-CALDESC:Events for Western Canada Corsa
REFRESH-INTERVAL;VALUE=DURATION:PT1H
X-Robots-Tag:noindex
X-PUBLISHED-TTL:PT1H
BEGIN:VTIMEZONE
TZID:America/Vancouver
BEGIN:DAYLIGHT
TZOFFSETFROM:-0800
TZOFFSETTO:-0700
TZNAME:PDT
DTSTART:20250309T100000
END:DAYLIGHT
BEGIN:STANDARD
TZOFFSETFROM:-0700
TZOFFSETTO:-0800
TZNAME:PST
DTSTART:20251102T090000
END:STANDARD
BEGIN:DAYLIGHT
TZOFFSETFROM:-0800
TZOFFSETTO:-0700
TZNAME:PDT
DTSTART:20260308T100000
END:DAYLIGHT
BEGIN:STANDARD
TZOFFSETFROM:-0700
TZOFFSETTO:-0800
TZNAME:PST
DTSTART:20261101T090000
END:STANDARD
BEGIN:DAYLIGHT
TZOFFSETFROM:-0800
TZOFFSETTO:-0700
TZNAME:PDT
DTSTART:20270314T100000
END:DAYLIGHT
BEGIN:STANDARD
TZOFFSETFROM:-0700
TZOFFSETTO:-0800
TZNAME:PST
DTSTART:20271107T090000
END:STANDARD
END:VTIMEZONE
BEGIN:VEVENT
DTSTART;TZID=America/Vancouver:20260628T073000
DTEND;TZID=America/Vancouver:20260628T170000
DTSTAMP:20260422T130925
CREATED:20260130T235758Z
LAST-MODIFIED:20260130T235914Z
UID:354-1782631800-1782666000@westerncanadacorsa.com
SUMMARY:Langley: Stay Gold Custom Car Show
DESCRIPTION:H.D. Stafford Middle School\n20441 – Grade Crescent\, Langley BC\, V3A 4J8 \nJune 28th\, 2026 9:00AM\nParticipant Entry: 7:30-9:00AM \ninfo@staygoldcustomcarshow.com
URL:https://westerncanadacorsa.com/event/langley-stay-gold-custom-car-show/
LOCATION:Langley\, Langley\, BC\, Canada
END:VEVENT
END:VCALENDAR