BEGIN:VCALENDAR
VERSION:2.0
PRODID:-//Western Canada Corsa - ECPv6.15.20//NONSGML v1.0//EN
CALSCALE:GREGORIAN
METHOD:PUBLISH
X-ORIGINAL-URL:https://westerncanadacorsa.com
X-WR-CALDESC:Events for Western Canada Corsa
REFRESH-INTERVAL;VALUE=DURATION:PT1H
X-Robots-Tag:noindex
X-PUBLISHED-TTL:PT1H
BEGIN:VTIMEZONE
TZID:America/Vancouver
BEGIN:DAYLIGHT
TZOFFSETFROM:-0800
TZOFFSETTO:-0700
TZNAME:PDT
DTSTART:20250309T100000
END:DAYLIGHT
BEGIN:STANDARD
TZOFFSETFROM:-0700
TZOFFSETTO:-0800
TZNAME:PST
DTSTART:20251102T090000
END:STANDARD
BEGIN:DAYLIGHT
TZOFFSETFROM:-0800
TZOFFSETTO:-0700
TZNAME:PDT
DTSTART:20260308T100000
END:DAYLIGHT
BEGIN:STANDARD
TZOFFSETFROM:-0700
TZOFFSETTO:-0800
TZNAME:PST
DTSTART:20261101T090000
END:STANDARD
BEGIN:DAYLIGHT
TZOFFSETFROM:-0800
TZOFFSETTO:-0700
TZNAME:PDT
DTSTART:20270314T100000
END:DAYLIGHT
BEGIN:STANDARD
TZOFFSETFROM:-0700
TZOFFSETTO:-0800
TZNAME:PST
DTSTART:20271107T090000
END:STANDARD
END:VTIMEZONE
BEGIN:VEVENT
DTSTART;TZID=America/Vancouver:20260620T080000
DTEND;TZID=America/Vancouver:20260620T080000
DTSTAMP:20260422T130941
CREATED:20260130T234727Z
LAST-MODIFIED:20260130T235249Z
UID:343-1781942400-1781942400@westerncanadacorsa.com
SUMMARY:Parksville: Seaside Cruizers' Poker Run!
DESCRIPTION:Poker Run! \n\n\n\n\n\n\nSaturday June 20th\, 2026…..Staging at 8 am and starting at 10 am. \n\n\n\n\n\n\nEnter via our Registration Sheet! \nLink to Register: https://seaside-cruizers.vercel.app/
URL:https://westerncanadacorsa.com/event/parksville-seaside-cruizers-poker-run/
LOCATION:Parksville\, Parksville\, BC\, Canada
END:VEVENT
BEGIN:VEVENT
DTSTART;TZID=America/Vancouver:20260620T180000
DTEND;TZID=America/Vancouver:20260620T220000
DTSTAMP:20260422T130941
CREATED:20260130T234932Z
LAST-MODIFIED:20260130T235337Z
UID:346-1781978400-1781992800@westerncanadacorsa.com
SUMMARY:Parksville: Seaside Cruizers'  Street Dance
DESCRIPTION:Saturday June 20th 2026 – 6:00 pm to 10:00 pm\n\n\n\n\n\n\nDowntown Qualicum Beach\, Merchandise Sales and Food Trucks will be on site!
URL:https://westerncanadacorsa.com/event/parksville-seaside-cruizers-street-dance/
LOCATION:Qualicum Beach\, 5861 Island Highway\, Qualicum Beach\, BC\, Canada
END:VEVENT
END:VCALENDAR