BEGIN:VCALENDAR
VERSION:2.0
PRODID:-//Western Canada Corsa - ECPv6.15.20//NONSGML v1.0//EN
CALSCALE:GREGORIAN
METHOD:PUBLISH
X-WR-CALNAME:Western Canada Corsa
X-ORIGINAL-URL:https://westerncanadacorsa.com
X-WR-CALDESC:Events for Western Canada Corsa
REFRESH-INTERVAL;VALUE=DURATION:PT1H
X-Robots-Tag:noindex
X-PUBLISHED-TTL:PT1H
BEGIN:VTIMEZONE
TZID:America/Vancouver
BEGIN:DAYLIGHT
TZOFFSETFROM:-0800
TZOFFSETTO:-0700
TZNAME:PDT
DTSTART:20250309T100000
END:DAYLIGHT
BEGIN:STANDARD
TZOFFSETFROM:-0700
TZOFFSETTO:-0800
TZNAME:PST
DTSTART:20251102T090000
END:STANDARD
BEGIN:DAYLIGHT
TZOFFSETFROM:-0800
TZOFFSETTO:-0700
TZNAME:PDT
DTSTART:20260308T100000
END:DAYLIGHT
BEGIN:STANDARD
TZOFFSETFROM:-0700
TZOFFSETTO:-0800
TZNAME:PST
DTSTART:20261101T090000
END:STANDARD
BEGIN:DAYLIGHT
TZOFFSETFROM:-0800
TZOFFSETTO:-0700
TZNAME:PDT
DTSTART:20270314T100000
END:DAYLIGHT
BEGIN:STANDARD
TZOFFSETFROM:-0700
TZOFFSETTO:-0800
TZNAME:PST
DTSTART:20271107T090000
END:STANDARD
END:VTIMEZONE
BEGIN:VEVENT
DTSTART;TZID=America/Vancouver:20260619T160000
DTEND;TZID=America/Vancouver:20260619T210000
DTSTAMP:20260420T174045
CREATED:20260130T234411Z
LAST-MODIFIED:20260130T235232Z
UID:338-1781884800-1781902800@westerncanadacorsa.com
SUMMARY:Parksville: Seaside Cruizers' Cruise Night
DESCRIPTION:Friday June 19th 2026\, – Staging starts at 4 pm\, Cruise at 7pm. \n\n\n\n\n\n\nParticipants gather at the old Parksville Curling Rink located in the Parksville Community Park. Staging starts around 4 pm. Cruise starts at 7 pm sharp. \nMerchandise Sales and Food Trucks will be on site! \nLink to Register: https://seaside-cruizers.vercel.app/
URL:https://westerncanadacorsa.com/event/parksville-seaside-cruizers-cruise-night/
LOCATION:Parksville Community Park\, 193 Island Highway East\, Parksville\, BC\, V9P 2H5\, Canada
END:VEVENT
END:VCALENDAR