BEGIN:VCALENDAR
VERSION:2.0
PRODID:-//Western Canada Corsa - ECPv6.15.20//NONSGML v1.0//EN
CALSCALE:GREGORIAN
METHOD:PUBLISH
X-WR-CALNAME:Western Canada Corsa
X-ORIGINAL-URL:https://westerncanadacorsa.com
X-WR-CALDESC:Events for Western Canada Corsa
REFRESH-INTERVAL;VALUE=DURATION:PT1H
X-Robots-Tag:noindex
X-PUBLISHED-TTL:PT1H
BEGIN:VTIMEZONE
TZID:America/Vancouver
BEGIN:DAYLIGHT
TZOFFSETFROM:-0800
TZOFFSETTO:-0700
TZNAME:PDT
DTSTART:20250309T100000
END:DAYLIGHT
BEGIN:STANDARD
TZOFFSETFROM:-0700
TZOFFSETTO:-0800
TZNAME:PST
DTSTART:20251102T090000
END:STANDARD
BEGIN:DAYLIGHT
TZOFFSETFROM:-0800
TZOFFSETTO:-0700
TZNAME:PDT
DTSTART:20260308T100000
END:DAYLIGHT
BEGIN:STANDARD
TZOFFSETFROM:-0700
TZOFFSETTO:-0800
TZNAME:PST
DTSTART:20261101T090000
END:STANDARD
BEGIN:DAYLIGHT
TZOFFSETFROM:-0800
TZOFFSETTO:-0700
TZNAME:PDT
DTSTART:20270314T100000
END:DAYLIGHT
BEGIN:STANDARD
TZOFFSETFROM:-0700
TZOFFSETTO:-0800
TZNAME:PST
DTSTART:20271107T090000
END:STANDARD
END:VTIMEZONE
BEGIN:VEVENT
DTSTART;TZID=America/Vancouver:20260508T080000
DTEND;TZID=America/Vancouver:20260511T170000
DTSTAMP:20260420T182350
CREATED:20260130T224246Z
LAST-MODIFIED:20260131T001641Z
UID:319-1778227200-1778518800@westerncanadacorsa.com
SUMMARY:Campbell River:  VCCC of Canada Central Fraser Valley Chapter - May Tour
DESCRIPTION:The 2026 May Tour will be held in beautiful Campbell River on Vancouver Island.  Tour date is May 8-11\, 2026.\nPre-register with a $50.00 deposit  Once you pre-register\, I will send you the hotel information.\nWe had to cap the tour at 75 cars due to hotel space availability. \nContact Information\nLaura Neufeld\nPhone 250-468-9572 (evenings and weekends)\nEmail: Lkneufeld@shaw.ca
URL:https://westerncanadacorsa.com/event/campbell-river-vintage-car-club-of-canada-may-tour/
LOCATION:Campbell River\, Campbell River\, BC\, Canada
END:VEVENT
END:VCALENDAR