BEGIN:VCALENDAR
VERSION:2.0
PRODID:-//Western Canada Corsa - ECPv6.15.20//NONSGML v1.0//EN
CALSCALE:GREGORIAN
METHOD:PUBLISH
X-ORIGINAL-URL:https://westerncanadacorsa.com
X-WR-CALDESC:Events for Western Canada Corsa
REFRESH-INTERVAL;VALUE=DURATION:PT1H
X-Robots-Tag:noindex
X-PUBLISHED-TTL:PT1H
BEGIN:VTIMEZONE
TZID:America/Vancouver
BEGIN:DAYLIGHT
TZOFFSETFROM:-0800
TZOFFSETTO:-0700
TZNAME:PDT
DTSTART:20240310T100000
END:DAYLIGHT
BEGIN:STANDARD
TZOFFSETFROM:-0700
TZOFFSETTO:-0800
TZNAME:PST
DTSTART:20241103T090000
END:STANDARD
BEGIN:DAYLIGHT
TZOFFSETFROM:-0800
TZOFFSETTO:-0700
TZNAME:PDT
DTSTART:20250309T100000
END:DAYLIGHT
BEGIN:STANDARD
TZOFFSETFROM:-0700
TZOFFSETTO:-0800
TZNAME:PST
DTSTART:20251102T090000
END:STANDARD
BEGIN:DAYLIGHT
TZOFFSETFROM:-0800
TZOFFSETTO:-0700
TZNAME:PDT
DTSTART:20260308T100000
END:DAYLIGHT
BEGIN:STANDARD
TZOFFSETFROM:-0700
TZOFFSETTO:-0800
TZNAME:PST
DTSTART:20261101T090000
END:STANDARD
END:VTIMEZONE
BEGIN:VEVENT
DTSTART;TZID=America/Vancouver:20250817T080000
DTEND;TZID=America/Vancouver:20250817T170000
DTSTAMP:20260422T231142
CREATED:20250512T025319Z
LAST-MODIFIED:20250512T025319Z
UID:289-1755417600-1755450000@westerncanadacorsa.com
SUMMARY:Downtown Port Coquitlam Car Show
DESCRIPTION:The Downtown Port Coquitlam Car Show is back again for its 19th year on Sunday\, August 17\, 2025! \nOver 60\,000 people will be on hand to witness 400+ classic and custom vehicles again this year at one of BC’s largest outdoor car shows. The day is also full of continuous entertainment on the main stage\, beverage garden\, model car building workshop and a huge children’s entertainment area. \n 
URL:https://westerncanadacorsa.com/event/downtown-port-coquitlam-car-show/
LOCATION:Downtown Port Coquitlam\, 2580 Shaughnessy St\, Port Coquitlam\, BC\, V3C 2A8\, Canada
END:VEVENT
END:VCALENDAR