BEGIN:VCALENDAR
VERSION:2.0
PRODID:-//Western Canada Corsa - ECPv6.15.20//NONSGML v1.0//EN
CALSCALE:GREGORIAN
METHOD:PUBLISH
X-ORIGINAL-URL:https://westerncanadacorsa.com
X-WR-CALDESC:Events for Western Canada Corsa
REFRESH-INTERVAL;VALUE=DURATION:PT1H
X-Robots-Tag:noindex
X-PUBLISHED-TTL:PT1H
BEGIN:VTIMEZONE
TZID:America/Vancouver
BEGIN:DAYLIGHT
TZOFFSETFROM:-0800
TZOFFSETTO:-0700
TZNAME:PDT
DTSTART:20240310T100000
END:DAYLIGHT
BEGIN:STANDARD
TZOFFSETFROM:-0700
TZOFFSETTO:-0800
TZNAME:PST
DTSTART:20241103T090000
END:STANDARD
BEGIN:DAYLIGHT
TZOFFSETFROM:-0800
TZOFFSETTO:-0700
TZNAME:PDT
DTSTART:20250309T100000
END:DAYLIGHT
BEGIN:STANDARD
TZOFFSETFROM:-0700
TZOFFSETTO:-0800
TZNAME:PST
DTSTART:20251102T090000
END:STANDARD
BEGIN:DAYLIGHT
TZOFFSETFROM:-0800
TZOFFSETTO:-0700
TZNAME:PDT
DTSTART:20260308T100000
END:DAYLIGHT
BEGIN:STANDARD
TZOFFSETFROM:-0700
TZOFFSETTO:-0800
TZNAME:PST
DTSTART:20261101T090000
END:STANDARD
END:VTIMEZONE
BEGIN:VEVENT
DTSTART;TZID=America/Vancouver:20250816T160000
DTEND;TZID=America/Vancouver:20250816T200000
DTSTAMP:20260422T231141
CREATED:20250512T025604Z
LAST-MODIFIED:20250512T025604Z
UID:293-1755360000-1755374400@westerncanadacorsa.com
SUMMARY:The Downtown Port Coquitlam Car Show Cruise
DESCRIPTION:11th Annual Car Cruise and BBQ in the evening of Saturday\, August 16th for all of the show participants and it is open to the general public. We expect over 400 vehicles for the Cruise and an estimated 5\,000 spectators cheering along the cruise route
URL:https://westerncanadacorsa.com/event/the-downtown-port-coquitlam-car-show-cruise/
LOCATION:Downtown Port Coquitlam\, 2580 Shaughnessy St\, Port Coquitlam\, BC\, V3C 2A8\, Canada
END:VEVENT
END:VCALENDAR