BEGIN:VCALENDAR
VERSION:2.0
PRODID:-//Western Canada Corsa - ECPv6.15.20//NONSGML v1.0//EN
CALSCALE:GREGORIAN
METHOD:PUBLISH
X-ORIGINAL-URL:https://westerncanadacorsa.com
X-WR-CALDESC:Events for Western Canada Corsa
REFRESH-INTERVAL;VALUE=DURATION:PT1H
X-Robots-Tag:noindex
X-PUBLISHED-TTL:PT1H
BEGIN:VTIMEZONE
TZID:America/Vancouver
BEGIN:DAYLIGHT
TZOFFSETFROM:-0800
TZOFFSETTO:-0700
TZNAME:PDT
DTSTART:20240310T100000
END:DAYLIGHT
BEGIN:STANDARD
TZOFFSETFROM:-0700
TZOFFSETTO:-0800
TZNAME:PST
DTSTART:20241103T090000
END:STANDARD
BEGIN:DAYLIGHT
TZOFFSETFROM:-0800
TZOFFSETTO:-0700
TZNAME:PDT
DTSTART:20250309T100000
END:DAYLIGHT
BEGIN:STANDARD
TZOFFSETFROM:-0700
TZOFFSETTO:-0800
TZNAME:PST
DTSTART:20251102T090000
END:STANDARD
BEGIN:DAYLIGHT
TZOFFSETFROM:-0800
TZOFFSETTO:-0700
TZNAME:PDT
DTSTART:20260308T100000
END:DAYLIGHT
BEGIN:STANDARD
TZOFFSETFROM:-0700
TZOFFSETTO:-0800
TZNAME:PST
DTSTART:20261101T090000
END:STANDARD
END:VTIMEZONE
BEGIN:VEVENT
DTSTART;TZID=America/Vancouver:20250808T123000
DTEND;TZID=America/Vancouver:20250809T170000
DTSTAMP:20260422T231142
CREATED:20250327T024608Z
LAST-MODIFIED:20250327T024608Z
UID:245-1754656200-1754758800@westerncanadacorsa.com
SUMMARY:Sleepy Hollow Rod Run and Show & Shine
DESCRIPTION:This family event starts on Friday with cars registering at Hackett Park from 1:00 PM until 5:30 PM for the Rod Run to Halfmoon Bay. At the park\, there will be a concession stand selling food and beverages. Prior to the Rod Run\, there will be a free corn roast for the participants. This gives everyone a chance to meet and greet local car club members and out of town guests. The 30 km Rod Run cruise starts at 6:15 PM and is lead by our local RCMP with 450+ classic cars winding their way through 3-4000 spectators that line the highway from Sechelt to the Halfmoon Bay Fire Hall. Participants are always amazed at the warm welcome and enthusiasm by the cheering crowds that gather alongside the roadway. The spectators make signs\, dress in costumes and place couches/ lawn chairs in their driveways. You also see a number of barbecues and house parties in full swing.
URL:https://westerncanadacorsa.com/event/sleepy-hollow-rod-run-and-show-shine/
LOCATION:Hacket Park\, 5765 Dolphin Street\, Sechelt\, BC\, V0N 3A6\, Canada
END:VEVENT
END:VCALENDAR