BEGIN:VCALENDAR
VERSION:2.0
PRODID:-//Western Canada Corsa - ECPv6.15.20//NONSGML v1.0//EN
CALSCALE:GREGORIAN
METHOD:PUBLISH
X-WR-CALNAME:Western Canada Corsa
X-ORIGINAL-URL:https://westerncanadacorsa.com
X-WR-CALDESC:Events for Western Canada Corsa
REFRESH-INTERVAL;VALUE=DURATION:PT1H
X-Robots-Tag:noindex
X-PUBLISHED-TTL:PT1H
BEGIN:VTIMEZONE
TZID:America/Vancouver
BEGIN:DAYLIGHT
TZOFFSETFROM:-0800
TZOFFSETTO:-0700
TZNAME:PDT
DTSTART:20240310T100000
END:DAYLIGHT
BEGIN:STANDARD
TZOFFSETFROM:-0700
TZOFFSETTO:-0800
TZNAME:PST
DTSTART:20241103T090000
END:STANDARD
BEGIN:DAYLIGHT
TZOFFSETFROM:-0800
TZOFFSETTO:-0700
TZNAME:PDT
DTSTART:20250309T100000
END:DAYLIGHT
BEGIN:STANDARD
TZOFFSETFROM:-0700
TZOFFSETTO:-0800
TZNAME:PST
DTSTART:20251102T090000
END:STANDARD
BEGIN:DAYLIGHT
TZOFFSETFROM:-0800
TZOFFSETTO:-0700
TZNAME:PDT
DTSTART:20260308T100000
END:DAYLIGHT
BEGIN:STANDARD
TZOFFSETFROM:-0700
TZOFFSETTO:-0800
TZNAME:PST
DTSTART:20261101T090000
END:STANDARD
END:VTIMEZONE
BEGIN:VEVENT
DTSTART;TZID=America/Vancouver:20250606T080000
DTEND;TZID=America/Vancouver:20250608T170000
DTSTAMP:20260422T033744
CREATED:20250327T023818Z
LAST-MODIFIED:20250327T023818Z
UID:240-1749196800-1749402000@westerncanadacorsa.com
SUMMARY:Pacific Northwest Econorun 2025
DESCRIPTION:Come immerse yourself in this year’s Econorun with a uniquely Northwest spin on it. This year everyone is invited to join in a cruise of the world-famous Columbia Gorge. The beautiful blue of the Columbia River backdropped by surrounding cliffs and beautiful views of Mount Hood is an immersive experience. We welcome all Corvair enthusiasts whether you currently have a car or not. Even if you’re not affiliated with a club\, we invite you to spend some time with likeminded Corvair fans. \nFriday night will be registration and an opportunity for attendees to settle in\, socialize and get a good night’s sleep before Saturday. \nA cruise for all attendees\, with an Econorun competition woven in for the Corvairs\, will be the main event on Saturday. There’ll be stops as you cruise through the Columbia gorge. We’ll be spending some time on the grounds of Maryhill Museum of Fine art\, at the WAAAM (Western Antique Aeroplane & Automobile Museum) and even a replica of Stonehenge overlooking the mighty Columbia River. Each stop will afford us the opportunity for a “pop up” car show as well as fantastic photo opportunities. \nAt the end of the cruise there’ll be an evening car show and trunk swap meet. This will include a pizza feed for everyone and a chance to visit. As the evening dark settles in\, attendees will have the option to visit one of the nation’s largest public telescopes. If the weather is right\, it is a spectacular view. \nSunday morning after everyone has a chance to get breakfast\, we’ll have the awards ceremony. There’ll be awards for the Econorun mileage & car show\, raffle prizes\, 50/50\, other fun games and socializing. Everyone should be able to hit the road lunchtime or shortly thereafter. \nOur hope is that everyone leaves brimming with Corvair connections and a renewed love of our unique place in the car culture at large. \nSpecific and detailed Cruise instructions with the rules for all drivers will be given out Saturday morning during the drivers meeting.
URL:https://westerncanadacorsa.com/event/pacific-northwest-econorun-2025/
LOCATION:Quality Inn & Suites Goldendale\, 808 East Simcoe Drive\, Goldendale\, Washington\, United States
END:VEVENT
END:VCALENDAR