BEGIN:VCALENDAR
VERSION:2.0
PRODID:-//Western Canada Corsa - ECPv6.15.20//NONSGML v1.0//EN
CALSCALE:GREGORIAN
METHOD:PUBLISH
X-WR-CALNAME:Western Canada Corsa
X-ORIGINAL-URL:https://westerncanadacorsa.com
X-WR-CALDESC:Events for Western Canada Corsa
REFRESH-INTERVAL;VALUE=DURATION:PT1H
X-Robots-Tag:noindex
X-PUBLISHED-TTL:PT1H
BEGIN:VTIMEZONE
TZID:America/Vancouver
BEGIN:DAYLIGHT
TZOFFSETFROM:-0800
TZOFFSETTO:-0700
TZNAME:PDT
DTSTART:20240310T100000
END:DAYLIGHT
BEGIN:STANDARD
TZOFFSETFROM:-0700
TZOFFSETTO:-0800
TZNAME:PST
DTSTART:20241103T090000
END:STANDARD
BEGIN:DAYLIGHT
TZOFFSETFROM:-0800
TZOFFSETTO:-0700
TZNAME:PDT
DTSTART:20250309T100000
END:DAYLIGHT
BEGIN:STANDARD
TZOFFSETFROM:-0700
TZOFFSETTO:-0800
TZNAME:PST
DTSTART:20251102T090000
END:STANDARD
BEGIN:DAYLIGHT
TZOFFSETFROM:-0800
TZOFFSETTO:-0700
TZNAME:PDT
DTSTART:20260308T100000
END:DAYLIGHT
BEGIN:STANDARD
TZOFFSETFROM:-0700
TZOFFSETTO:-0800
TZNAME:PST
DTSTART:20261101T090000
END:STANDARD
END:VTIMEZONE
BEGIN:VEVENT
DTSTART;TZID=America/Vancouver:20250520T080000
DTEND;TZID=America/Vancouver:20250523T170000
DTSTAMP:20260423T040530
CREATED:20250328T030105Z
LAST-MODIFIED:20250328T030105Z
UID:253-1747728000-1748019600@westerncanadacorsa.com
SUMMARY:2025 CORSA International Convention
DESCRIPTION:Members Only! \nParticipation in the CORSA International Convention is limited to CORSA Members. \nThere are several events at the convention in San Luis Obispo\, CA May 20-23rd\nCar Show: Open to CORSA members who register for the convention and event. All Corvairs are welcome. \nConcours d’Elegance: Open to CORSA members who are registered for the convention\nand event. The CORSA Concours welcomes ALL Corvairs to be displayed and judged. \nAutocross: Open to CORSA members who register for the convention and event. Any Corvair bodied or powered vehicle that passes a safety inspection may enter. \nEconomy Run: Open to CORSA members who register for the convention and event.\nEcono Run event participation registration cut off is Thursday at Noon. Open to any Corvair\npowered or bodied vehicle *. Multiple classes are available for various powertrain\nconfigurations.\n* Corsa also provides a “non-Corvair” class for those who may wish to run the course without a Corvair just for fun; this class shall not be eligible for awards. \nRoad Rally: Open to CORSA members who register for the convention and event. Open to any Corvair powered or bodied vehicle *.\n* Corsa also provides a “non-Corvair” class for those who may wish to run the course without a Corvair just for fun; this class shall not be eligible for awards. \nCole Award Competition: Awarded to the person with the best scores from participating in all of the following events: Concours d’Elegance\, Autocross\, Road Rally\, Economy Run and\nattendance at the banquet. Named for the “Father of the Corvair” Ed Cole\, this prestigious\naward is a significant accomplishment and recognition for the winner at the CORSA Convention. \nIn addition to these events\, Valve Cover racing\, a Model Car Concours\, Tours\, Hospitality\,\nCrafting and shopping at indoor and outdoor vendors are all a part of the convention experience for registered participants
URL:https://westerncanadacorsa.com/event/2025-corsa-international-convention/
LOCATION:Embassy Suites By Hilton\, 333 Madonna Road\, San Luis Obispo\, CA\, 93405\, United States
END:VEVENT
END:VCALENDAR